BEGIN:VCALENDAR
VERSION:2.0
PRODID:-//Eastern Ontario Outaouais Regional Council - ECPv6.15.20//NONSGML v1.0//EN
CALSCALE:GREGORIAN
METHOD:PUBLISH
X-WR-CALNAME:Eastern Ontario Outaouais Regional Council
X-ORIGINAL-URL:https://eoorc.ca
X-WR-CALDESC:Events for Eastern Ontario Outaouais Regional Council
REFRESH-INTERVAL;VALUE=DURATION:PT1H
X-Robots-Tag:noindex
X-PUBLISHED-TTL:PT1H
BEGIN:VTIMEZONE
TZID:America/Toronto
BEGIN:DAYLIGHT
TZOFFSETFROM:-0500
TZOFFSETTO:-0400
TZNAME:EDT
DTSTART:20250309T070000
END:DAYLIGHT
BEGIN:STANDARD
TZOFFSETFROM:-0400
TZOFFSETTO:-0500
TZNAME:EST
DTSTART:20251102T060000
END:STANDARD
BEGIN:DAYLIGHT
TZOFFSETFROM:-0500
TZOFFSETTO:-0400
TZNAME:EDT
DTSTART:20260308T070000
END:DAYLIGHT
BEGIN:STANDARD
TZOFFSETFROM:-0400
TZOFFSETTO:-0500
TZNAME:EST
DTSTART:20261101T060000
END:STANDARD
BEGIN:DAYLIGHT
TZOFFSETFROM:-0500
TZOFFSETTO:-0400
TZNAME:EDT
DTSTART:20270314T070000
END:DAYLIGHT
BEGIN:STANDARD
TZOFFSETFROM:-0400
TZOFFSETTO:-0500
TZNAME:EST
DTSTART:20271107T060000
END:STANDARD
END:VTIMEZONE
BEGIN:VEVENT
DTSTART;TZID=America/Toronto:20260513T140000
DTEND;TZID=America/Toronto:20260513T160000
DTSTAMP:20260425T224542
CREATED:20260414T164639Z
LAST-MODIFIED:20260414T164639Z
UID:36164-1778680800-1778688000@eoorc.ca
SUMMARY:Gathering for Retired Ministers
DESCRIPTION:Gathering for Retired Ministers – Wednesday\, May 13th – 2-4pm – Bell’s Corners United Church. A time to connect and reconnect\, to share some stories\, sing some songs\, and enjoy one another’s company! Please share this event with retired ministers that you may know – especially those who may have recently moved into the region. For further information\, contact Paul Dillman at dilbry7@gmail.com
URL:https://eoorc.ca/event/gathering-for-retired-ministers/
LOCATION:Bells Corners United Church\, 3955 Old Richmond Rd\, Nepean\, ON\, K2H 5C5\, Canada
END:VEVENT
BEGIN:VEVENT
DTSTART;VALUE=DATE:20260522
DTEND;VALUE=DATE:20260524
DTSTAMP:20260425T224542
CREATED:20260417T132718Z
LAST-MODIFIED:20260417T132748Z
UID:36262-1779408000-1779580799@eoorc.ca
SUMMARY:Spring Yard Sale and Clothing Drive
DESCRIPTION:We are here to help you with your spring cleaning. We are collecting clothes and items for our yard sale.\nYard Sale – May 22 – 23\nFriday May 22nd – 9 – 11 am Drop off items\nFriday May 22nd – 11-6pm Items for sale\nSaturday May 23rd – 8am-1pm -Items for sale \nClothing Drive –\nDrop off 2536 Rideau Rd\nApril 25 9am – 4pm\nApril 28 9am – 11am\nMay 5 & May 19 9am – 11am\nMay 22 & May 23 9am – 11am
URL:https://eoorc.ca/event/spring-yard-sale-and-clothing-drive/
LOCATION:South Gloucester United Church\, 2536 Rideau Rd\, Gloucester\, ON\, K1X 1A1
ATTACH;FMTTYPE=image/jpeg:https://eoorc.ca/wp-content/uploads/2026/04/Spring-Yard-Sale-Flyer.jpg
END:VEVENT
BEGIN:VEVENT
DTSTART;VALUE=DATE:20260522
DTEND;VALUE=DATE:20260524
DTSTAMP:20260425T224542
CREATED:20260417T160230Z
LAST-MODIFIED:20260417T160230Z
UID:36305-1779408000-1779580799@eoorc.ca
SUMMARY:Spring Yard Sale and Clothing Drive
DESCRIPTION:Clean out all your cupboards and we will help you get rid of treasures you no longer need. Bring them to us on May 22 – 23. You can drop off you clothing at the following times below – Drop off 2536 Rideau Rd\nApril 25 9am – 4pm\nApril 28 9am – 11am\nMay 5 & May 19 9am – 11am\nMay 22 & May 23 9am – 11am \nThe Yard Sale hours are: Friday May 22nd – 9 – 11 am Drop off items\nFriday May 22nd – 11-6pm Items for sale\nSaturday May 23rd – 8am-1pm -Items for sale
URL:https://eoorc.ca/event/spring-yard-sale-and-clothing-drive-2/
LOCATION:South Gloucester United Church\, 2536 Rideau Rd\, Gloucester\, ON\, K1X 1A1
ATTACH;FMTTYPE=image/jpeg:https://eoorc.ca/wp-content/uploads/2026/04/Spring-Yard-Sale-Flyer-1.jpg
END:VEVENT
BEGIN:VEVENT
DTSTART;TZID=America/Toronto:20260523T093000
DTEND;TZID=America/Toronto:20260523T123000
DTSTAMP:20260425T224542
CREATED:20260423T150008Z
LAST-MODIFIED:20260424T161426Z
UID:36422-1779528600-1779539400@eoorc.ca
SUMMARY:Ministry and Personnel (M&P) Workshop
DESCRIPTION:EOORC is hosting an M&P (Ministry and Personnel) workshop on May 23rd from 9:30am -12:30pm. It will be online via Zoom. \nAre you a member of your congregation’s M&P Committee? This workshop is for you\, whether you are a new or long-serving member of the M&P Committee. Ministry Personnel are also welcome to join in this workshop. \nWe will talk about the roles and responsibilities of the M&P Committee\, as well as issues of salary\, vacation\, position descriptions\, sabbaticals\, conflict resolution\, annual reviews\, and other topics that will come before an M&P Committee. \nThis workshop is hosted by EOORC Pastoral Relations Minister Rev. Victoria Andrews (VAndrews@united-church.ca)\, but it is also open to folks from ECORC and Nakonha:ka Regional Councils. \nPre-registration is required. Please register here.
URL:https://eoorc.ca/event/ministry-and-personnel-mp-workshop/
LOCATION:ON
END:VEVENT
BEGIN:VEVENT
DTSTART;VALUE=DATE:20260529
DTEND;VALUE=DATE:20260531
DTSTAMP:20260425T224542
CREATED:20260112T201228Z
LAST-MODIFIED:20260225T160847Z
UID:33992-1780012800-1780185599@eoorc.ca
SUMMARY:Annual General Meeting
DESCRIPTION:The EOORC AGM will take place from May 29th-30th at Trinity United Church\, Smiths Falls. For more information\, please visit: https://eoorc.ca/2026-eoorc-agm/ 
URL:https://eoorc.ca/event/annual-general-meeting/
LOCATION:Trinity United Church – Smiths Falls\, 41 Market St N\, Smith Falls\, ON\, K7A 2E7\, Canada
END:VEVENT
BEGIN:VEVENT
DTSTART;TZID=America/Toronto:20260605T190000
DTEND;TZID=America/Toronto:20260605T220000
DTSTAMP:20260425T224542
CREATED:20260423T172418Z
LAST-MODIFIED:20260423T172418Z
UID:36436-1780686000-1780696800@eoorc.ca
SUMMARY:Raise the Roof with the Retrosonics
DESCRIPTION:The final concert for MHI’s Odenak on LeBreton Flats. A beach party -themed dance with surprises during the evening.\nFree-will offering but tax receipts issued for donations of $25 or more.\nThe Retrosonics did the first concert 14 months ago\, and the popular band is returning to the delight of many.\nThe date is Friday June 5. Doors open at 6:30. Show starts at 7.
URL:https://eoorc.ca/event/raise-the-roof-with-the-retrosonics/
LOCATION:Barrhaven United Church\, 3013 Jockvale Rd\, Nepean\, ON\, K2J 4E4\, Canada
ATTACH;FMTTYPE=image/png:https://eoorc.ca/wp-content/uploads/2026/04/June5P-scaled.png
END:VEVENT
BEGIN:VEVENT
DTSTART;TZID=America/Toronto:20260613T110000
DTEND;TZID=America/Toronto:20260613T140000
DTSTAMP:20260425T224542
CREATED:20260409T153147Z
LAST-MODIFIED:20260409T153147Z
UID:35999-1781348400-1781359200@eoorc.ca
SUMMARY:Camp Lau-Ren June 13 Open House
DESCRIPTION:Come to the Camp Lau-Ren Open House on Saturday\, June 13 from 11:00 AM – 2:00 PM. Enjoy a free BBQ hotdog\, drink\, and treats. Tour a camper’s cabin\, check out the beach on the Ottawa River\, make a craft and climb the Rock. A children’s summer camp of the United Church of Canada\, Camp Lau-Ren is accredited by the Ontario Camps Association. All children are welcome. Two and six night co-ed camps are offered for children aged six to fifteen years old including a two night co-ed camp for 6 and 7 year olds and a girls’ camp. Camp Lau-Ren is located 10 KM West of Deep River just off Highway 17W at 210 Lau-Ren Road in the Township of Laurentian Hills. www.camplau-ren.com
URL:https://eoorc.ca/event/camp-lau-ren-june-13-open-house/
LOCATION:Camp Lau-Ren\, 210 Lau-Ren Road\, Laurentian Hills\, K0J 1P0
ATTACH;FMTTYPE=image/png:https://eoorc.ca/wp-content/uploads/2026/04/Screen-Shot-2026-04-04-at-7.57.13-PM.png
END:VEVENT
BEGIN:VEVENT
DTSTART;VALUE=DATE:20261024
DTEND;VALUE=DATE:20261025
DTSTAMP:20260425T224542
CREATED:20260316T152122Z
LAST-MODIFIED:20260316T153211Z
UID:35568-1792800000-1792886399@eoorc.ca
SUMMARY:Fall Meeting
DESCRIPTION:EOORC’s fall meeting will take place on Saturday\, October 24th at Manotick United Church. We are also hosting campfire worship and sleepover the evening before (Friday\, October 23rd) at Rideau Hill Camp. You are welcome to come to the campfire worship and/or the sleepover…or to just come to the meeting on Saturday. \nWe look forward to seeing you there! More details will follow. For now\, please save the date.
URL:https://eoorc.ca/event/fall-meeting/
LOCATION:Manotick United Church\, Manotick\, ON\, 5567 Manotick Main St\, Manotick\, ON\, K4M 1A5\, Canada
END:VEVENT
END:VCALENDAR