BEGIN:VCALENDAR
VERSION:2.0
PRODID:-//Eastern Ontario Outaouais Regional Council - ECPv6.15.20//NONSGML v1.0//EN
CALSCALE:GREGORIAN
METHOD:PUBLISH
X-ORIGINAL-URL:https://eoorc.ca
X-WR-CALDESC:Events for Eastern Ontario Outaouais Regional Council
REFRESH-INTERVAL;VALUE=DURATION:PT1H
X-Robots-Tag:noindex
X-PUBLISHED-TTL:PT1H
BEGIN:VTIMEZONE
TZID:America/Toronto
BEGIN:DAYLIGHT
TZOFFSETFROM:-0500
TZOFFSETTO:-0400
TZNAME:EDT
DTSTART:20250309T070000
END:DAYLIGHT
BEGIN:STANDARD
TZOFFSETFROM:-0400
TZOFFSETTO:-0500
TZNAME:EST
DTSTART:20251102T060000
END:STANDARD
BEGIN:DAYLIGHT
TZOFFSETFROM:-0500
TZOFFSETTO:-0400
TZNAME:EDT
DTSTART:20260308T070000
END:DAYLIGHT
BEGIN:STANDARD
TZOFFSETFROM:-0400
TZOFFSETTO:-0500
TZNAME:EST
DTSTART:20261101T060000
END:STANDARD
BEGIN:DAYLIGHT
TZOFFSETFROM:-0500
TZOFFSETTO:-0400
TZNAME:EDT
DTSTART:20270314T070000
END:DAYLIGHT
BEGIN:STANDARD
TZOFFSETFROM:-0400
TZOFFSETTO:-0500
TZNAME:EST
DTSTART:20271107T060000
END:STANDARD
END:VTIMEZONE
BEGIN:VEVENT
DTSTART;TZID=America/Toronto:20260429T190000
DTEND;TZID=America/Toronto:20260429T203000
DTSTAMP:20260420T010943
CREATED:20260416T153932Z
LAST-MODIFIED:20260416T153932Z
UID:36236-1777489200-1777494600@eoorc.ca
SUMMARY:Finding Your Way Back to You: Reclaiming Life After the Caregiving Journey
DESCRIPTION:Caring for a loved one is one of the most profound\, selfless things a person can do. And one of the most exhausting.\nWhether you are still in the thick of it or have recently come through the other side\, you may be sitting with a tangle of emotions you can’t quite name — grief\, relief\, guilt\, numbness\, or simply the strange quiet of a life that no longer revolves around someone else’s needs. That disorientation is real. And it makes sense. \n\nThis workshop is for you. \n\nHosted by the compassionate team at Hospice Care Ottawa\, this evening offers a gentle\, unhurried space to breathe and begin reconnecting with yourself. Facilitators will guide participants through the emotional and practical adjustments that follow caregiving\, helping you recognize what you’re feeling\, understand what you’ve been through\, and start imagining what life looks like from here. Together\, you’ll explore resources\, community supports\, and the quiet but powerful act of leaning on others while you find your footing again. \n\nYou’ve given so much. Come as you are. \nWednesday\, April 29th | 7:00–8:30pm\nOrleans United Church Sanctuary \n\nAll are welcome. No registration required. \n 
URL:https://eoorc.ca/event/finding-your-way-back-to-you-reclaiming-life-after-the-caregiving-journey/
LOCATION:Orleans United Church\, 1111 Orleans Blvd\, Ottawa\, ON
ATTACH;FMTTYPE=image/png:https://eoorc.ca/wp-content/uploads/2026/04/Screenshot-2026-04-16-113747.png
END:VEVENT
BEGIN:VEVENT
DTSTART;TZID=America/Toronto:20260502T090000
DTEND;TZID=America/Toronto:20260502T120000
DTSTAMP:20260420T010943
CREATED:20260323T180738Z
LAST-MODIFIED:20260323T180738Z
UID:35746-1777712400-1777723200@eoorc.ca
SUMMARY:Yard and Bake Sale at Navan-Vars United Church
DESCRIPTION:Annual fundraising yard and bake sale hosted and coordinated by the Navan-Vars United Church’s fabulous UCW! Come and purchase tasty baking\, or browse the items that you didn’t know you wanted or needed at our yard sale! Fantastic deals for all shoppers!
URL:https://eoorc.ca/event/yard-and-bake-sale-at-navan-vars-united-church/
LOCATION:Navan-Vars United Chuch\, 1129 Smith Road\, Navan\, ON\, K4B 1N7
ATTACH;FMTTYPE=image/jpeg:https://eoorc.ca/wp-content/uploads/2026/03/Yard-and-Bake-Sale-2026.jpeg
END:VEVENT
BEGIN:VEVENT
DTSTART;TZID=America/Toronto:20260502T140000
DTEND;TZID=America/Toronto:20260502T160000
DTSTAMP:20260420T010943
CREATED:20260416T142153Z
LAST-MODIFIED:20260416T142153Z
UID:36222-1777730400-1777737600@eoorc.ca
SUMMARY:Salem UC Mother’s Day High Tea and Fashion Show
DESCRIPTION:Salem United Church Mother’s Day High Tea and Fashion Show\nSaturday May 2nd\, 2-4 p.m.\n19041 County Rd 2 Summerstown\nAccessibility stair chair lift available\nJoin us for a delicious high tea\, music\, door prizes and a fun fashion show featuring clothing from Serendipity Boutique\nAdults $20. Children 12 and under $10\nAll welcome!\nTickets available from Rev. John at 613-808-9992 or Dee Vipond at djvipond@live.ca
URL:https://eoorc.ca/event/salem-uc-mothers-day-high-tea-and-fashion-show/
LOCATION:Salem United Church\, 19041 County Road 2\, Summerstown\, ON\, K6H 5R5
ATTACH;FMTTYPE=image/jpeg:https://eoorc.ca/wp-content/uploads/2026/04/463036.jpg
END:VEVENT
BEGIN:VEVENT
DTSTART;TZID=America/Toronto:20260505T193000
DTEND;TZID=America/Toronto:20260505T210000
DTSTAMP:20260420T010943
CREATED:20260417T145958Z
LAST-MODIFIED:20260417T145958Z
UID:36269-1778009400-1778014800@eoorc.ca
SUMMARY:Cumberland Community Singers
DESCRIPTION:Come and enjoy an evening of music – May 5th.
URL:https://eoorc.ca/event/cumberland-community-singers/
LOCATION:South Gloucester United Church\, 2536 Rideau Rd\, Gloucester\, ON\, K1X 1A1
ATTACH;FMTTYPE=image/jpeg:https://eoorc.ca/wp-content/uploads/2026/04/Spring-Concert.jpg
END:VEVENT
BEGIN:VEVENT
DTSTART;TZID=America/Toronto:20260507T093000
DTEND;TZID=America/Toronto:20260507T153000
DTSTAMP:20260420T010943
CREATED:20260414T165829Z
LAST-MODIFIED:20260414T170236Z
UID:36167-1778146200-1778167800@eoorc.ca
SUMMARY:Clergy Learning Day - Text and Textures
DESCRIPTION:EOORC Clergy Learning Day – Thursday May\, 7\, 2026. \nSt.John’s United Church\, Kemptville\, ON.      \nRegistration/coffee at 9:30 –  Workshop begins at 10am.  \nFree event\, and lunch is included.   Event will end by 3:30pm. \n*If you would like to attend\, please register here by April 29th at noon. We will need to share numbers and lunch info with our caterer. \nTEXTS AND TEXTURES:  An introduction to midrashic imagination for reading scripture in community.  \nMidrashic imagination is as old as the Bible itself. Midrashic study of Scripture involves an imaginative\, faithful\, and at times playful “turning and turning” of a biblical passage in order to uncover its multiple interpretive possibilities\, especially as we bring that biblical text into holy conversation with our own lives. \nIn this one-day workshop\, Rev. Dr. Elisabeth Jones will share with us highlights and insights she has gleaned through over 10 years of research and practice of midrashic biblical imagination as a way to prepare preachers and congregations to hear echoes of God’s “lively word\,” not only in Scripture but in the holy conversations we have as we turn the texts. \n  \nBIO  \nThe Rev. Dr. Elisabeth Jones has recently retired from her role as Lead Minister at Cedar Park United\, in Pointe Claire\, Qc\, giving her more time to devote to writing\, workshops\, and teaching preaching and formation for pastoral ministry.  She has served the United Church as teaching professor at VST and UTC (now United Church Studies at Dio)\, and in pastoral ministry in Quebec. She holds a D. Min in Biblical Preaching from Luther Seminary\, St. Paul MN\, is author of Lenten Prayers for a Pandemic Season\, and is “Gan” to seven amazing grandchildren\, who can all ski faster than her. \nBOOK \nYou will also be able to pre-order Elisabeth’s forthcoming book\, Midrashic Imagination: Texts and Textures for Pulpit and Pew\, (Fortress Press)\, coming off the presses (and in e-book format) on June 9th. \nEndorsements for Midrashic Imagination: \n\nIn “Midrashic Imagination\,” Elisabeth Jones shares a profoundly Jewish way of reading sacred text with a broader audience. She does so with the integrity of a scholar\, the sensitivity of a minister\, and the imaginativeness born of a true love of scripture. Rabbi Dr. Lisa Grushcow\, Senior Rabbi\, Temple Emanu-El Beth Sholom\, Montreal.\n\n  \n\nDrawing on the deep well of the midrashic tradition of rumbling with sacred text\, Elisabeth R. Jones expertly guides us from a place of theological anemia to a rich and deep practice\, grounded in that which is wholly love\, allowing us to aspire to the bold discipleship we dare to claim.  Dr. Carmen Lansdowne\, Emmanuel College\, Toronto\, and 44th Moderator of the United Church of Canada\n\n  \n\n“Midrashic Imagination” is a gift to anyone looking to inspire Christian communities to new depths of scriptural engagement and together find new ways to proclaim good news in challenging times. Jesse Zink\, Principal\, Montreal Diocesan Theological College\, and author of Faithful\, Creative\, Hopeful: Fifteen Theses for Christians in a Crisis-Shaped World.
URL:https://eoorc.ca/event/clergy-learning-day-text-and-textures/
LOCATION:St. John’s United Church\, Kemptville\, 400 Prescott St\, Kemptville\, Ontario\, K0G 1J0\, Canada
ATTACH;FMTTYPE=image/png:https://eoorc.ca/wp-content/uploads/2026/04/Screenshot-2026-04-14-130114.png
END:VEVENT
BEGIN:VEVENT
DTSTART;TZID=America/Toronto:20260509T190000
DTEND;TZID=America/Toronto:20260509T210000
DTSTAMP:20260420T010943
CREATED:20260323T180531Z
LAST-MODIFIED:20260323T180531Z
UID:35732-1778353200-1778360400@eoorc.ca
SUMMARY:Sing! Spring Concert with the Ottawa Carleton Male Choir
DESCRIPTION:A fantastic way to welcome spring! Come and hear the Ottawa Carleton Male Choir at Navan-Vars United Church on Saturday\, May 9\, 2026 at 7 pm. $20 at the door. All welcome.
URL:https://eoorc.ca/event/sing-spring-concert-with-the-ottawa-carleton-male-choir/
LOCATION:Navan-Vars United Chuch\, 1129 Smith Road\, Navan\, ON\, K4B 1N7
ATTACH;FMTTYPE=image/png:https://eoorc.ca/wp-content/uploads/2026/03/Vars-Navan-Concert-Poster-May-9-2026.png
END:VEVENT
BEGIN:VEVENT
DTSTART;TZID=America/Toronto:20260513T140000
DTEND;TZID=America/Toronto:20260513T160000
DTSTAMP:20260420T010943
CREATED:20260414T164639Z
LAST-MODIFIED:20260414T164639Z
UID:36164-1778680800-1778688000@eoorc.ca
SUMMARY:Gathering for Retired Ministers
DESCRIPTION:Gathering for Retired Ministers – Wednesday\, May 13th – 2-4pm – Bell’s Corners United Church. A time to connect and reconnect\, to share some stories\, sing some songs\, and enjoy one another’s company! Please share this event with retired ministers that you may know – especially those who may have recently moved into the region. For further information\, contact Paul Dillman at dilbry7@gmail.com
URL:https://eoorc.ca/event/gathering-for-retired-ministers/
LOCATION:Bells Corners United Church\, 3955 Old Richmond Rd\, Nepean\, ON\, K2H 5C5\, Canada
END:VEVENT
BEGIN:VEVENT
DTSTART;VALUE=DATE:20260522
DTEND;VALUE=DATE:20260524
DTSTAMP:20260420T010943
CREATED:20260417T132718Z
LAST-MODIFIED:20260417T132748Z
UID:36262-1779408000-1779580799@eoorc.ca
SUMMARY:Spring Yard Sale and Clothing Drive
DESCRIPTION:We are here to help you with your spring cleaning. We are collecting clothes and items for our yard sale.\nYard Sale – May 22 – 23\nFriday May 22nd – 9 – 11 am Drop off items\nFriday May 22nd – 11-6pm Items for sale\nSaturday May 23rd – 8am-1pm -Items for sale \nClothing Drive –\nDrop off 2536 Rideau Rd\nApril 25 9am – 4pm\nApril 28 9am – 11am\nMay 5 & May 19 9am – 11am\nMay 22 & May 23 9am – 11am
URL:https://eoorc.ca/event/spring-yard-sale-and-clothing-drive/
LOCATION:South Gloucester United Church\, 2536 Rideau Rd\, Gloucester\, ON\, K1X 1A1
ATTACH;FMTTYPE=image/jpeg:https://eoorc.ca/wp-content/uploads/2026/04/Spring-Yard-Sale-Flyer.jpg
END:VEVENT
BEGIN:VEVENT
DTSTART;VALUE=DATE:20260522
DTEND;VALUE=DATE:20260524
DTSTAMP:20260420T010943
CREATED:20260417T160230Z
LAST-MODIFIED:20260417T160230Z
UID:36305-1779408000-1779580799@eoorc.ca
SUMMARY:Spring Yard Sale and Clothing Drive
DESCRIPTION:Clean out all your cupboards and we will help you get rid of treasures you no longer need. Bring them to us on May 22 – 23. You can drop off you clothing at the following times below – Drop off 2536 Rideau Rd\nApril 25 9am – 4pm\nApril 28 9am – 11am\nMay 5 & May 19 9am – 11am\nMay 22 & May 23 9am – 11am \nThe Yard Sale hours are: Friday May 22nd – 9 – 11 am Drop off items\nFriday May 22nd – 11-6pm Items for sale\nSaturday May 23rd – 8am-1pm -Items for sale
URL:https://eoorc.ca/event/spring-yard-sale-and-clothing-drive-2/
LOCATION:South Gloucester United Church\, 2536 Rideau Rd\, Gloucester\, ON\, K1X 1A1
ATTACH;FMTTYPE=image/jpeg:https://eoorc.ca/wp-content/uploads/2026/04/Spring-Yard-Sale-Flyer-1.jpg
END:VEVENT
BEGIN:VEVENT
DTSTART;VALUE=DATE:20260529
DTEND;VALUE=DATE:20260531
DTSTAMP:20260420T010943
CREATED:20260112T201228Z
LAST-MODIFIED:20260225T160847Z
UID:33992-1780012800-1780185599@eoorc.ca
SUMMARY:Annual General Meeting
DESCRIPTION:The EOORC AGM will take place from May 29th-30th at Trinity United Church\, Smiths Falls. For more information\, please visit: https://eoorc.ca/2026-eoorc-agm/ 
URL:https://eoorc.ca/event/annual-general-meeting/
LOCATION:Trinity United Church – Smiths Falls\, 41 Market St N\, Smith Falls\, ON\, K7A 2E7\, Canada
END:VEVENT
BEGIN:VEVENT
DTSTART;TZID=America/Toronto:20260613T110000
DTEND;TZID=America/Toronto:20260613T140000
DTSTAMP:20260420T010943
CREATED:20260409T153147Z
LAST-MODIFIED:20260409T153147Z
UID:35999-1781348400-1781359200@eoorc.ca
SUMMARY:Camp Lau-Ren June 13 Open House
DESCRIPTION:Come to the Camp Lau-Ren Open House on Saturday\, June 13 from 11:00 AM – 2:00 PM. Enjoy a free BBQ hotdog\, drink\, and treats. Tour a camper’s cabin\, check out the beach on the Ottawa River\, make a craft and climb the Rock. A children’s summer camp of the United Church of Canada\, Camp Lau-Ren is accredited by the Ontario Camps Association. All children are welcome. Two and six night co-ed camps are offered for children aged six to fifteen years old including a two night co-ed camp for 6 and 7 year olds and a girls’ camp. Camp Lau-Ren is located 10 KM West of Deep River just off Highway 17W at 210 Lau-Ren Road in the Township of Laurentian Hills. www.camplau-ren.com
URL:https://eoorc.ca/event/camp-lau-ren-june-13-open-house/
LOCATION:Camp Lau-Ren\, 210 Lau-Ren Road\, Laurentian Hills\, K0J 1P0
ATTACH;FMTTYPE=image/png:https://eoorc.ca/wp-content/uploads/2026/04/Screen-Shot-2026-04-04-at-7.57.13-PM.png
END:VEVENT
BEGIN:VEVENT
DTSTART;VALUE=DATE:20261024
DTEND;VALUE=DATE:20261025
DTSTAMP:20260420T010943
CREATED:20260316T152122Z
LAST-MODIFIED:20260316T153211Z
UID:35568-1792800000-1792886399@eoorc.ca
SUMMARY:Fall Meeting
DESCRIPTION:EOORC’s fall meeting will take place on Saturday\, October 24th at Manotick United Church. We are also hosting campfire worship and sleepover the evening before (Friday\, October 23rd) at Rideau Hill Camp. You are welcome to come to the campfire worship and/or the sleepover…or to just come to the meeting on Saturday. \nWe look forward to seeing you there! More details will follow. For now\, please save the date.
URL:https://eoorc.ca/event/fall-meeting/
LOCATION:Manotick United Church\, Manotick\, ON\, 5567 Manotick Main St\, Manotick\, ON\, K4M 1A5\, Canada
END:VEVENT
END:VCALENDAR